BEGIN:VCALENDAR
VERSION:2.0
PRODID:-//Notaria - ECPv6.15.17.1//NONSGML v1.0//EN
CALSCALE:GREGORIAN
METHOD:PUBLISH
X-WR-CALNAME:Notaria
X-ORIGINAL-URL:https://notaria3popayan.com
X-WR-CALDESC:Eventos para Notaria
REFRESH-INTERVAL;VALUE=DURATION:PT1H
X-Robots-Tag:noindex
X-PUBLISHED-TTL:PT1H
BEGIN:VTIMEZONE
TZID:America/New_York
BEGIN:DAYLIGHT
TZOFFSETFROM:-0500
TZOFFSETTO:-0400
TZNAME:EDT
DTSTART:20210314T070000
END:DAYLIGHT
BEGIN:STANDARD
TZOFFSETFROM:-0400
TZOFFSETTO:-0500
TZNAME:EST
DTSTART:20211107T060000
END:STANDARD
BEGIN:DAYLIGHT
TZOFFSETFROM:-0500
TZOFFSETTO:-0400
TZNAME:EDT
DTSTART:20220313T070000
END:DAYLIGHT
BEGIN:STANDARD
TZOFFSETFROM:-0400
TZOFFSETTO:-0500
TZNAME:EST
DTSTART:20221106T060000
END:STANDARD
BEGIN:DAYLIGHT
TZOFFSETFROM:-0500
TZOFFSETTO:-0400
TZNAME:EDT
DTSTART:20230312T070000
END:DAYLIGHT
BEGIN:STANDARD
TZOFFSETFROM:-0400
TZOFFSETTO:-0500
TZNAME:EST
DTSTART:20231105T060000
END:STANDARD
BEGIN:DAYLIGHT
TZOFFSETFROM:-0500
TZOFFSETTO:-0400
TZNAME:EDT
DTSTART:20240310T070000
END:DAYLIGHT
BEGIN:STANDARD
TZOFFSETFROM:-0400
TZOFFSETTO:-0500
TZNAME:EST
DTSTART:20241103T060000
END:STANDARD
BEGIN:DAYLIGHT
TZOFFSETFROM:-0500
TZOFFSETTO:-0400
TZNAME:EDT
DTSTART:20250309T070000
END:DAYLIGHT
BEGIN:STANDARD
TZOFFSETFROM:-0400
TZOFFSETTO:-0500
TZNAME:EST
DTSTART:20251102T060000
END:STANDARD
END:VTIMEZONE
BEGIN:VEVENT
DTSTART;TZID=America/New_York:20221115T080000
DTEND;TZID=America/New_York:20221115T120000
DTSTAMP:20260422T181936
CREATED:20220929T015535Z
LAST-MODIFIED:20220929T134206Z
UID:25747-1668499200-1668513600@notaria3popayan.com
SUMMARY:noviembre 05 del 2022 Sábado de Turno
DESCRIPTION:Información sobre los turnos en la prestación del servicio públiconotarial los sábados\, Según resolución 00493 del 18 de enero del 2023. \nPor la cual se asignan los turnos de prestación del servicio público notarial los sábados\,comprendidos entre el 1 de febrero de 2022 y 31 de enero de 2023 \nLa Notaría tres de Popayán presta su servicio el sábado de turno aquí nombrado
URL:https://notaria3popayan.com/event/noviembre-05-del-2022-sabado-de-turno/
LOCATION:Notaría Tres Popayán\, Carrera 8 # 2 – 15\, Popayán\, Cúcuta\, 5400\, Colombia
ATTACH;FMTTYPE=image/png:https://notaria3popayan.com/wp-content/uploads/2022/09/logo-notaria-tres.png
END:VEVENT
BEGIN:VEVENT
DTSTART;TZID=America/New_York:20221126T080000
DTEND;TZID=America/New_York:20221126T120000
DTSTAMP:20260422T181936
CREATED:20220929T021931Z
LAST-MODIFIED:20220929T150848Z
UID:25776-1669449600-1669464000@notaria3popayan.com
SUMMARY:noviembre 26 del 2022 Sábado de Turno
DESCRIPTION:Información sobre los turnos en la prestación del servicio públiconotarial los sábados\, Según resolución 00493 del 18 de enero del 2023. \nPor la cual se asignan los turnos de prestación del servicio público notarial los sábados\,comprendidos entre el 1 de febrero de 2022 y 31 de enero de 2023 \nLa Notaría tres de Popayán presta su servicio el sábado de turno aquí nombrado
URL:https://notaria3popayan.com/event/noviembre-26-sabado-de-turno/
ATTACH;FMTTYPE=image/png:https://notaria3popayan.com/wp-content/uploads/2022/09/logo-notaria-tres.png
END:VEVENT
BEGIN:VEVENT
DTSTART;TZID=America/New_York:20221217T080000
DTEND;TZID=America/New_York:20221217T120000
DTSTAMP:20260422T181936
CREATED:20220929T022217Z
LAST-MODIFIED:20220929T150822Z
UID:25783-1671264000-1671278400@notaria3popayan.com
SUMMARY:diciembre 17 del 2022 Sábado de Turno
DESCRIPTION:Información sobre los turnos en la prestación del servicio públiconotarial los sábados\, Según resolución 00493 del 18 de enero del 2023. \nPor la cual se asignan los turnos de prestación del servicio público notarial los sábados\,comprendidos entre el 1 de febrero de 2022 y 31 de enero de 2023 \nLa Notaría tres de Popayán presta su servicio el sábado de turno aquí nombrado
URL:https://notaria3popayan.com/event/diciembre-17-sabado-de-turno/
ATTACH;FMTTYPE=image/png:https://notaria3popayan.com/wp-content/uploads/2022/09/logo-notaria-tres.png
END:VEVENT
BEGIN:VEVENT
DTSTART;TZID=America/New_York:20230107T080000
DTEND;TZID=America/New_York:20230107T120000
DTSTAMP:20260422T181936
CREATED:20220929T022556Z
LAST-MODIFIED:20220929T150747Z
UID:25792-1673078400-1673092800@notaria3popayan.com
SUMMARY:enero 7 del 2023 Sábado de Turno
DESCRIPTION:Información sobre los turnos en la prestación del servicio públiconotarial los sábados\, Según resolución 00493 del 18 de enero del 2023. \nPor la cual se asignan los turnos de prestación del servicio público notarial los sábados\,comprendidos entre el 1 de febrero de 2022 y 31 de enero de 2023 \nLa Notaría tres de Popayán presta su servicio el sábado de turno aquí nombrado
URL:https://notaria3popayan.com/event/enero-7-de-2023-sabado-de-turno/
ATTACH;FMTTYPE=image/png:https://notaria3popayan.com/wp-content/uploads/2022/09/logo-notaria-tres.png
END:VEVENT
BEGIN:VEVENT
DTSTART;TZID=America/New_York:20230128T080000
DTEND;TZID=America/New_York:20230128T120000
DTSTAMP:20260422T181936
CREATED:20220929T022808Z
LAST-MODIFIED:20220929T133902Z
UID:25798-1674892800-1674907200@notaria3popayan.com
SUMMARY:28 enero del 2023 Sábado de Turno
DESCRIPTION:Información sobre los turnos en la prestación del servicio públiconotarial los sábados\, Según resolución 00493 del 18 de enero del 2023. \nPor la cual se asignan los turnos de prestación del servicio público notarial los sábados\,comprendidos entre el 1 de febrero de 2022 y 31 de enero de 2023 \nLa Notaría tres de Popayán presta su servicio el sábado de turno aquí nombrado
URL:https://notaria3popayan.com/event/28-enero-del-2023-sabado-de-turno/
ATTACH;FMTTYPE=image/png:https://notaria3popayan.com/wp-content/uploads/2022/09/logo-notaria-tres.png
END:VEVENT
BEGIN:VEVENT
DTSTART;VALUE=DATE:20230218
DTEND;VALUE=DATE:20230219
DTSTAMP:20260422T181936
CREATED:20240730T211214Z
LAST-MODIFIED:20240730T211254Z
UID:25966-1676678400-1676764799@notaria3popayan.com
SUMMARY:18 de febrero de 2023 Sabado de turno
DESCRIPTION:
URL:https://notaria3popayan.com/event/18-de-febrero-de-2023-sabado-de-turno/
LOCATION:Notaría Tres Popayán\, Carrera 8 # 2 – 15\, Popayán\, Cúcuta\, 5400\, Colombia
END:VEVENT
BEGIN:VEVENT
DTSTART;VALUE=DATE:20230311
DTEND;VALUE=DATE:20230312
DTSTAMP:20260422T181936
CREATED:20240730T211622Z
LAST-MODIFIED:20240730T211914Z
UID:25970-1678492800-1678579199@notaria3popayan.com
SUMMARY:11 de marzo de 2023 Sabado de turno
DESCRIPTION:
URL:https://notaria3popayan.com/event/11-de-marzo-de-2023-sabado-de-turno/
LOCATION:Notaría Tres Popayán\, Carrera 8 # 2 – 15\, Popayán\, Cúcuta\, 5400\, Colombia
END:VEVENT
BEGIN:VEVENT
DTSTART;VALUE=DATE:20230401
DTEND;VALUE=DATE:20230402
DTSTAMP:20260422T181936
CREATED:20240730T212234Z
LAST-MODIFIED:20240730T212234Z
UID:25974-1680307200-1680393599@notaria3popayan.com
SUMMARY:1 de abril de 2023 sabado de turno
DESCRIPTION:
URL:https://notaria3popayan.com/event/1-de-abril-de-2023-sabado-de-turno/
LOCATION:Notaría Tres Popayán\, Carrera 8 # 2 – 15\, Popayán\, Cúcuta\, 5400\, Colombia
END:VEVENT
BEGIN:VEVENT
DTSTART;VALUE=DATE:20230422
DTEND;VALUE=DATE:20230423
DTSTAMP:20260422T181936
CREATED:20240730T212319Z
LAST-MODIFIED:20240730T212319Z
UID:25976-1682121600-1682207999@notaria3popayan.com
SUMMARY:22 de abril de 2023 Sabado de turno
DESCRIPTION:
URL:https://notaria3popayan.com/event/22-de-abril-de-2023-sabado-de-turno/
LOCATION:Notaría Tres Popayán\, Carrera 8 # 2 – 15\, Popayán\, Cúcuta\, 5400\, Colombia
END:VEVENT
BEGIN:VEVENT
DTSTART;VALUE=DATE:20230513
DTEND;VALUE=DATE:20230514
DTSTAMP:20260422T181936
CREATED:20240730T212429Z
LAST-MODIFIED:20240730T213728Z
UID:25978-1683936000-1684022399@notaria3popayan.com
SUMMARY:13 de mayo de 2023 Sabado de turno
DESCRIPTION:
URL:https://notaria3popayan.com/event/13-de-mayo-de-2023-sabado-de-turno/
LOCATION:Notaría Tres Popayán\, Carrera 8 # 2 – 15\, Popayán\, Cúcuta\, 5400\, Colombia
END:VEVENT
BEGIN:VEVENT
DTSTART;VALUE=DATE:20230603
DTEND;VALUE=DATE:20230604
DTSTAMP:20260422T181936
CREATED:20240730T213832Z
LAST-MODIFIED:20240730T215627Z
UID:25980-1685750400-1685836799@notaria3popayan.com
SUMMARY:3 de junio de 2023 Sabado de turno
DESCRIPTION:
URL:https://notaria3popayan.com/event/3-de-junio-de-2023-sabado-de-turno/
LOCATION:Notaría Tres Popayán\, Carrera 8 # 2 – 15\, Popayán\, Cúcuta\, 5400\, Colombia
END:VEVENT
BEGIN:VEVENT
DTSTART;VALUE=DATE:20230624
DTEND;VALUE=DATE:20230625
DTSTAMP:20260422T181936
CREATED:20240730T213944Z
LAST-MODIFIED:20240730T213944Z
UID:25982-1687564800-1687651199@notaria3popayan.com
SUMMARY:24 de junio de 2023 Sabado de turno
DESCRIPTION:
URL:https://notaria3popayan.com/event/24-de-junio-de-2023-sabado-de-turno/
LOCATION:Notaría Tres Popayán\, Carrera 8 # 2 – 15\, Popayán\, Cúcuta\, 5400\, Colombia
END:VEVENT
BEGIN:VEVENT
DTSTART;VALUE=DATE:20230715
DTEND;VALUE=DATE:20230716
DTSTAMP:20260422T181936
CREATED:20240730T214022Z
LAST-MODIFIED:20240730T214022Z
UID:25984-1689379200-1689465599@notaria3popayan.com
SUMMARY:15 de julio de 2023 Sabado de turno
DESCRIPTION:
URL:https://notaria3popayan.com/event/15-de-julio-de-2023-sabado-de-turno/
LOCATION:Notaría Tres Popayán\, Carrera 8 # 2 – 15\, Popayán\, Cúcuta\, 5400\, Colombia
END:VEVENT
BEGIN:VEVENT
DTSTART;VALUE=DATE:20230805
DTEND;VALUE=DATE:20230806
DTSTAMP:20260422T181936
CREATED:20240730T214315Z
LAST-MODIFIED:20240730T214315Z
UID:25986-1691193600-1691279999@notaria3popayan.com
SUMMARY:5 de agosto de 2023 Sabado de turno
DESCRIPTION:
URL:https://notaria3popayan.com/event/5-de-agosto-de-2023-sabado-de-turno/
LOCATION:Notaría Tres Popayán\, Carrera 8 # 2 – 15\, Popayán\, Cúcuta\, 5400\, Colombia
END:VEVENT
BEGIN:VEVENT
DTSTART;VALUE=DATE:20230826
DTEND;VALUE=DATE:20230827
DTSTAMP:20260422T181936
CREATED:20240730T215228Z
LAST-MODIFIED:20240730T215228Z
UID:25988-1693008000-1693094399@notaria3popayan.com
SUMMARY:26 de agosto de 2023 Sabado de turno
DESCRIPTION:
URL:https://notaria3popayan.com/event/26-de-agosto-de-2023-sabado-de-turno/
LOCATION:Notaría Tres Popayán\, Carrera 8 # 2 – 15\, Popayán\, Cúcuta\, 5400\, Colombia
END:VEVENT
BEGIN:VEVENT
DTSTART;VALUE=DATE:20230916
DTEND;VALUE=DATE:20230917
DTSTAMP:20260422T181936
CREATED:20240730T215319Z
LAST-MODIFIED:20240730T215319Z
UID:25990-1694822400-1694908799@notaria3popayan.com
SUMMARY:Septiembre 16 de 2023 Sabado de turno
DESCRIPTION:
URL:https://notaria3popayan.com/event/septiembre-16-de-2023-sabado-de-turno/
LOCATION:Notaría Tres Popayán\, Carrera 8 # 2 – 15\, Popayán\, Cúcuta\, 5400\, Colombia
END:VEVENT
BEGIN:VEVENT
DTSTART;VALUE=DATE:20231007
DTEND;VALUE=DATE:20231008
DTSTAMP:20260422T181936
CREATED:20240730T215419Z
LAST-MODIFIED:20240730T215419Z
UID:25992-1696636800-1696723199@notaria3popayan.com
SUMMARY:Octubre 7 de 2023 Sabado de turno
DESCRIPTION:
URL:https://notaria3popayan.com/event/octubre-7-de-2023-sabado-de-turno/
LOCATION:Notaría Tres Popayán\, Carrera 8 # 2 – 15\, Popayán\, Cúcuta\, 5400\, Colombia
END:VEVENT
BEGIN:VEVENT
DTSTART;VALUE=DATE:20231028
DTEND;VALUE=DATE:20231029
DTSTAMP:20260422T181936
CREATED:20240730T215452Z
LAST-MODIFIED:20240730T215452Z
UID:25994-1698451200-1698537599@notaria3popayan.com
SUMMARY:28 de octubre de 2023 Sabado de turno
DESCRIPTION:
URL:https://notaria3popayan.com/event/28-de-octubre-de-2023-sabado-de-turno/
LOCATION:Notaría Tres Popayán\, Carrera 8 # 2 – 15\, Popayán\, Cúcuta\, 5400\, Colombia
END:VEVENT
BEGIN:VEVENT
DTSTART;VALUE=DATE:20231118
DTEND;VALUE=DATE:20231119
DTSTAMP:20260422T181936
CREATED:20240730T215531Z
LAST-MODIFIED:20240730T215531Z
UID:25996-1700265600-1700351999@notaria3popayan.com
SUMMARY:18 de noviembre de 2023 Sabado de turno
DESCRIPTION:
URL:https://notaria3popayan.com/event/18-de-noviembre-de-2023-sabado-de-turno/
LOCATION:Notaría Tres Popayán\, Carrera 8 # 2 – 15\, Popayán\, Cúcuta\, 5400\, Colombia
END:VEVENT
BEGIN:VEVENT
DTSTART;VALUE=DATE:20231209
DTEND;VALUE=DATE:20231210
DTSTAMP:20260422T181936
CREATED:20240730T215722Z
LAST-MODIFIED:20240730T215722Z
UID:25998-1702080000-1702166399@notaria3popayan.com
SUMMARY:Diciembre 9 de 2023 Sabado de turno
DESCRIPTION:
URL:https://notaria3popayan.com/event/diciembre-9-de-2023-sabado-de-turno/
LOCATION:Notaría Tres Popayán\, Carrera 8 # 2 – 15\, Popayán\, Cúcuta\, 5400\, Colombia
END:VEVENT
BEGIN:VEVENT
DTSTART;VALUE=DATE:20231230
DTEND;VALUE=DATE:20231231
DTSTAMP:20260422T181936
CREATED:20240730T215810Z
LAST-MODIFIED:20240730T215810Z
UID:26000-1703894400-1703980799@notaria3popayan.com
SUMMARY:30 de diciembre 2023 Sabado de turno
DESCRIPTION:
URL:https://notaria3popayan.com/event/30-de-diciembre-2023-sabado-de-turno/
LOCATION:Notaría Tres Popayán\, Carrera 8 # 2 – 15\, Popayán\, Cúcuta\, 5400\, Colombia
END:VEVENT
BEGIN:VEVENT
DTSTART;VALUE=DATE:20240120
DTEND;VALUE=DATE:20240121
DTSTAMP:20260422T181936
CREATED:20240730T215847Z
LAST-MODIFIED:20240730T215847Z
UID:26002-1705708800-1705795199@notaria3popayan.com
SUMMARY:20 de enero de 2024 Sabado de turno
DESCRIPTION:
URL:https://notaria3popayan.com/event/20-de-enero-de-2024-sabado-de-turno/
LOCATION:Notaría Tres Popayán\, Carrera 8 # 2 – 15\, Popayán\, Cúcuta\, 5400\, Colombia
END:VEVENT
BEGIN:VEVENT
DTSTART;VALUE=DATE:20240210
DTEND;VALUE=DATE:20240211
DTSTAMP:20260422T181936
CREATED:20240730T220344Z
LAST-MODIFIED:20240730T220344Z
UID:26004-1707523200-1707609599@notaria3popayan.com
SUMMARY:10 de febrero de 2024 Sabado de turno
DESCRIPTION:
URL:https://notaria3popayan.com/event/10-de-febrero-de-2024-sabado-de-turno/
LOCATION:Notaría Tres Popayán\, Carrera 8 # 2 – 15\, Popayán\, Cúcuta\, 5400\, Colombia
END:VEVENT
BEGIN:VEVENT
DTSTART;VALUE=DATE:20240302
DTEND;VALUE=DATE:20240303
DTSTAMP:20260422T181936
CREATED:20240730T220507Z
LAST-MODIFIED:20240730T220507Z
UID:26006-1709337600-1709423999@notaria3popayan.com
SUMMARY:2 de marzo de 2024 Sabado de turno
DESCRIPTION:
URL:https://notaria3popayan.com/event/2-de-marzo-de-2024-sabado-de-turno/
LOCATION:Notaría Tres Popayán\, Carrera 8 # 2 – 15\, Popayán\, Cúcuta\, 5400\, Colombia
END:VEVENT
BEGIN:VEVENT
DTSTART;VALUE=DATE:20240323
DTEND;VALUE=DATE:20240324
DTSTAMP:20260422T181936
CREATED:20240730T220539Z
LAST-MODIFIED:20240730T220539Z
UID:26008-1711152000-1711238399@notaria3popayan.com
SUMMARY:23 de marzo de 2024 Sabado de turno
DESCRIPTION:
URL:https://notaria3popayan.com/event/23-de-marzo-de-2024-sabado-de-turno/
LOCATION:Notaría Tres Popayán\, Carrera 8 # 2 – 15\, Popayán\, Cúcuta\, 5400\, Colombia
END:VEVENT
BEGIN:VEVENT
DTSTART;VALUE=DATE:20240413
DTEND;VALUE=DATE:20240414
DTSTAMP:20260422T181936
CREATED:20240730T220617Z
LAST-MODIFIED:20240730T220617Z
UID:26010-1712966400-1713052799@notaria3popayan.com
SUMMARY:13 de abril de 2024 Sabado de turno
DESCRIPTION:
URL:https://notaria3popayan.com/event/13-de-abril-de-2024-sabado-de-turno/
LOCATION:Notaría Tres Popayán\, Carrera 8 # 2 – 15\, Popayán\, Cúcuta\, 5400\, Colombia
END:VEVENT
BEGIN:VEVENT
DTSTART;VALUE=DATE:20240504
DTEND;VALUE=DATE:20240505
DTSTAMP:20260422T181936
CREATED:20240730T220708Z
LAST-MODIFIED:20240730T220708Z
UID:26012-1714780800-1714867199@notaria3popayan.com
SUMMARY:4 de mayo de 2024 Sabado de turno
DESCRIPTION:
URL:https://notaria3popayan.com/event/4-de-mayo-de-2024-sabado-de-turno/
LOCATION:Notaría Tres Popayán\, Carrera 8 # 2 – 15\, Popayán\, Cúcuta\, 5400\, Colombia
END:VEVENT
BEGIN:VEVENT
DTSTART;VALUE=DATE:20240525
DTEND;VALUE=DATE:20240526
DTSTAMP:20260422T181936
CREATED:20240730T220747Z
LAST-MODIFIED:20240730T220747Z
UID:26014-1716595200-1716681599@notaria3popayan.com
SUMMARY:25 de mayo de 2024 Sabado de turno
DESCRIPTION:
URL:https://notaria3popayan.com/event/25-de-mayo-de-2024-sabado-de-turno/
LOCATION:Notaría Tres Popayán\, Carrera 8 # 2 – 15\, Popayán\, Cúcuta\, 5400\, Colombia
END:VEVENT
BEGIN:VEVENT
DTSTART;VALUE=DATE:20240615
DTEND;VALUE=DATE:20240616
DTSTAMP:20260422T181936
CREATED:20240730T220813Z
LAST-MODIFIED:20240730T220818Z
UID:26016-1718409600-1718495999@notaria3popayan.com
SUMMARY:15 de junio de 2024 Sabado de turno
DESCRIPTION:
URL:https://notaria3popayan.com/event/15-de-junio-de-2024-sabado-turno/
LOCATION:Notaría Tres Popayán\, Carrera 8 # 2 – 15\, Popayán\, Cúcuta\, 5400\, Colombia
END:VEVENT
BEGIN:VEVENT
DTSTART;VALUE=DATE:20240706
DTEND;VALUE=DATE:20240707
DTSTAMP:20260422T181936
CREATED:20240730T220939Z
LAST-MODIFIED:20240730T220939Z
UID:26019-1720224000-1720310399@notaria3popayan.com
SUMMARY:6 de julio de 2024 Sabado de turno
DESCRIPTION:
URL:https://notaria3popayan.com/event/6-de-julio-de-2024-sabado-de-turno/
LOCATION:Notaría Tres Popayán\, Carrera 8 # 2 – 15\, Popayán\, Cúcuta\, 5400\, Colombia
END:VEVENT
END:VCALENDAR